BEGIN:VCALENDAR
VERSION:2.0
PRODID:-//OrlandoChristianFlyingClub - ECPv6.15.13.1//NONSGML v1.0//EN
CALSCALE:GREGORIAN
METHOD:PUBLISH
X-ORIGINAL-URL:https://orlandochristianflyingclub.com/new
X-WR-CALDESC:Events for OrlandoChristianFlyingClub
REFRESH-INTERVAL;VALUE=DURATION:PT1H
X-Robots-Tag:noindex
X-PUBLISHED-TTL:PT1H
BEGIN:VTIMEZONE
TZID:America/New_York
BEGIN:DAYLIGHT
TZOFFSETFROM:-0500
TZOFFSETTO:-0400
TZNAME:EDT
DTSTART:20210314T070000
END:DAYLIGHT
BEGIN:STANDARD
TZOFFSETFROM:-0400
TZOFFSETTO:-0500
TZNAME:EST
DTSTART:20211107T060000
END:STANDARD
BEGIN:DAYLIGHT
TZOFFSETFROM:-0500
TZOFFSETTO:-0400
TZNAME:EDT
DTSTART:20220313T070000
END:DAYLIGHT
BEGIN:STANDARD
TZOFFSETFROM:-0400
TZOFFSETTO:-0500
TZNAME:EST
DTSTART:20221106T060000
END:STANDARD
BEGIN:DAYLIGHT
TZOFFSETFROM:-0500
TZOFFSETTO:-0400
TZNAME:EDT
DTSTART:20230312T070000
END:DAYLIGHT
BEGIN:STANDARD
TZOFFSETFROM:-0400
TZOFFSETTO:-0500
TZNAME:EST
DTSTART:20231105T060000
END:STANDARD
END:VTIMEZONE
BEGIN:VEVENT
DTSTART;TZID=America/New_York:20220106T183000
DTEND;TZID=America/New_York:20220106T200000
DTSTAMP:20260423T025001
CREATED:20211207T011032Z
LAST-MODIFIED:20211207T011206Z
UID:2643-1641493800-1641499200@orlandochristianflyingclub.com
SUMMARY:Winter Bible Study
DESCRIPTION:Winter Bible Study\nProverbs \nOpportunity to participate\nPlease join us for an 11 week study of Proverbs.  All are welcome! \n  \nWhen\nØ Thursdays 6:30-8:00 pm  \nØ Session 1: January 6th  \n  \nWhere \nØ First session on January 6th at the Barker’s home for coffee/tea & dessert (3405 S. Mellonville Ave.\, Sanford FL 32773- Gate will be open) \nØ Second through eleventh sessions will be at OCFC club house (SE Ramp – Sanford) \nØ All sessions via Zoom option \n  \nWhat to bring \nØ Bible \nØ Workbooks will be distributed on January 6th ($9 donation) \n  \n  \nRSVP/Questions:  terryckrauss@gmail.com
URL:https://orlandochristianflyingclub.com/new/event/winter-bible-study/
END:VEVENT
END:VCALENDAR